BEGIN:VCALENDAR
VERSION:2.0
PRODID:-//ChamberMaster//Event Calendar 2.0//EN
METHOD:PUBLISH
X-PUBLISHED-TTL:P3D
REFRESH-INTERVAL:P3D
CALSCALE:GREGORIAN
BEGIN:VEVENT
DTSTART:20250215T160000Z
DTEND:20250215T170000Z
X-MICROSOFT-CDO-ALLDAYEVENT:FALSE
SUMMARY:All Levels Yoga
DESCRIPTION:All Levels Yoga offers a comprehensive practice accessible to all level practitioners that blends the art of ancient & modern yoga. Learn breathing techniques (Pranayama) designed to: Relax and revitalize the nervous system Reduce physical and emotional stress Improve focus and concentration You'll discover ways to maintain and increase your overall health and sense of well-being through yoga practice. Lengthen the muscles through gentle stretching Lubricate the joints through mindful movements Building core and overall body strength to improve posture and skeletal alignment Enhance balance and focus Guided meditation to open and conclude class
X-ALT-DESC;FMTTYPE=text/html:All Levels Yoga offers a comprehensive practice accessible to all level practitioners that blends the art of ancient &amp\; modern yoga. Learn breathing techniques (Pranayama) designed to: Relax and revitalize the nervous system Reduce physical and emotional stress Improve focus and concentration You&#39\;ll discover ways to maintain and increase your overall health and sense of well-being through yoga practice. Lengthen the muscles through gentle stretching Lubricate the joints through mindful movements Building core and overall body strength to improve posture and skeletal alignment Enhance balance and focus Guided meditation to open and conclude class
LOCATION:J Club at Jasper
UID:e.2712.12364
SEQUENCE:3
DTSTAMP:20260426T031405Z
URL:http://www.pvchamber.org/events/details/all-levels-yoga-12364
END:VEVENT

END:VCALENDAR
