BEGIN:VCALENDAR
VERSION:2.0
PRODID:-//ChamberMaster//Event Calendar 2.0//EN
METHOD:PUBLISH
X-PUBLISHED-TTL:P3D
REFRESH-INTERVAL:P3D
CALSCALE:GREGORIAN
BEGIN:VEVENT
DTSTART:20250219T170000Z
DTEND:20250221T170000Z
X-MICROSOFT-CDO-ALLDAYEVENT:FALSE
SUMMARY:Annuities: The Good\, The Bad & The Ugly
DESCRIPTION:JOIN OTHER PROACTIVE AND SUCCESSFUL RETIREES AS THEY LEARN ABOUT ANNUITIES! Do I understand how my portfolio of assets will generate regular cash flow? What happens to my retirement income when markets get rough? Are there other techniques for building a steady income stream that I should consider? Have I discussed my cash flow plans in retirement with a financial professional? Your Questions Answered: Exclusive Q&A with Carrie Brumbaugh in a Small Group Setting. EVENT INFORMATION: 2 options to choose from! Wednesday\, February 18th at 10am Prescott Chamber of Commerce 117 W. Goodwin Street Prescott\, AZ 86303 Friday\, February 21st at 10am Prescott Valley Chamber of Commerce 7120 Pave Way Prescott Valley\, AZ 86314 = === Seating is limited. Register now to guarantee your reservation. Register Here: https://keap.page/qlw618/annuities-feb-2025.html Investment Advisory Services are offered through Victory Wealth Services\, a State of Arizona registered investment adviser. This platform is solely for informational purposes and does not offer advisory services or sales of securities. Investing involves risk and possible loss or principal capital\, comments by viewers and or recognitions are no guarantee or future investment outcomes and do not ensure that a viewer will experience a higher level or performance or results. Public comments posted on this site are not selected\, amended\, deleted\, or sorted in any way. If applicable\, certain editing of personal identifiable information and mis information may be deleted.
X-ALT-DESC;FMTTYPE=text/html:JOIN OTHER PROACTIVE AND SUCCESSFUL RETIREES AS THEY LEARN ABOUT ANNUITIES! Do I understand how my portfolio of assets will generate regular cash flow? What happens to my retirement income when markets get rough? Are there other techniques for building a steady income stream that I should consider? Have I discussed my cash flow plans in retirement with a financial professional? Your Questions Answered: Exclusive Q&amp\;A with Carrie Brumbaugh in a Small Group Setting. EVENT INFORMATION: 2 options to choose from! Wednesday\, February 18th at 10am Prescott Chamber of Commerce 117 W. Goodwin Street Prescott\, AZ 86303 Friday\, February 21st at 10am Prescott Valley Chamber of Commerce 7120 Pave Way Prescott Valley\, AZ 86314 = === Seating is limited. Register now to guarantee your reservation. Register Here: https://keap.page/qlw618/annuities-feb-2025.html Investment Advisory Services are offered through Victory Wealth Services\, a State of Arizona registered investment adviser. This platform is solely for informational purposes and does not offer advisory services or sales of securities. Investing involves risk and possible loss or principal capital\, comments by viewers and or recognitions are no guarantee or future investment outcomes and do not ensure that a viewer will experience a higher level or performance or results. Public comments posted on this site are not selected\, amended\, deleted\, or sorted in any way. If applicable\, certain editing of personal identifiable information and mis information may be deleted.
LOCATION:Prescott Chamber of Commerce 117 W. Goodwin St Prescott\, AZ 86303 or Prescott Valley Chamber of Commerce 7120 Pave Way Prescott Valley\, AZ 86314
UID:e.2712.12496
SEQUENCE:3
DTSTAMP:20260426T031317Z
URL:http://www.pvchamber.org/events/details/annuities-the-good-the-bad-the-ugly-12496
END:VEVENT

END:VCALENDAR
