BEGIN:VCALENDAR
VERSION:2.0
PRODID:-//ChamberMaster//Event Calendar 2.0//EN
METHOD:PUBLISH
X-PUBLISHED-TTL:P3D
REFRESH-INTERVAL:P3D
CALSCALE:GREGORIAN
BEGIN:VEVENT
DTSTART:20250306T000000Z
DTEND:20250306T030000Z
X-MICROSOFT-CDO-ALLDAYEVENT:FALSE
SUMMARY:Business Academy 2025
DESCRIPTION:Business Academy is an 8-week long learning series catered to business owners and managers. We encourage participants to come learn something new or get a refresher on topics that can help them be more successful in our changing business world. Topics covered: Human Resources\, Finance\, Marketing your Business\, Technology\, Communications & Customer Service\, Networking and more.
X-ALT-DESC;FMTTYPE=text/html:<span style="background:white\;"><span style="color:#333333\;"><span style="font-family:arial\,sans-serif\;"><span style="font-size:10.0pt\;">Business Academy is an 8-week long learning series catered to&nbsp\;business owners and managers. We encourage participants to come learn something new or get a refresher on topics that can help them be more successful in our changing business world. Topics covered:&nbsp\;Human Resources\, Finance\, Marketing your Business\, Technology\, Communications &amp\; Customer Service\, Networking and more.</span></span></span></span>
LOCATION:Prescott Valley Chamber of Commerce Conference Room 7120 Pav Way\, Suite 102\, Prescott Valley\, AZ Please come in through the back door.
UID:e.2712.12429
SEQUENCE:3
DTSTAMP:20260426T012622Z
URL:http://www.pvchamber.org/events/details/business-academy-2025-03-05-2025-12429
END:VEVENT

END:VCALENDAR
