BEGIN:VCALENDAR
VERSION:2.0
PRODID:-//ChamberMaster//Event Calendar 2.0//EN
METHOD:PUBLISH
X-PUBLISHED-TTL:P3D
REFRESH-INTERVAL:P3D
CALSCALE:GREGORIAN
BEGIN:VEVENT
DTSTART:20250322T010000Z
DTEND:20250322T030000Z
X-MICROSOFT-CDO-ALLDAYEVENT:FALSE
SUMMARY:HBA - Loteria Event 2025
DESCRIPTION:Noche de loter a con la Asociaci n de Empresarios Hispanos!\n\n\n\n Acomp  enos para una noche emocionante de loter a en el Warehouse Event Center en Prescott Valley el viernes 21 de marzo de 6:00 p. m. a 8:00 p. m.!\n\n\n\nReserva anticipada: $20 por persona\, incluye un asiento reservado\, 3 tarjetas de loter a para 8 juegos y 1 ronda de tarjeta completa. \n\nPrecio en la entrada: $25 por persona.\n\n\n\n Disfruta de una barra de pago y deliciosos elotes de Elotes Gonz lez a la venta!\n\n\n\nLas plazas son limitadas\, as  que reg strate hoy para reservar tu lugar en una noche de diversi n\, premios y buena compa  a.\n\n\n\nNota: Solo los invitados de pago tendr n asiento en una mesa. No te lo pierdas\,  reserva el tuyo ahora!\n\n\n\n******************************************************************\n\n Loter a Night with the Hispanic Business Association! \n\n\n\nJoin us for an exciting evening of Loter a (Mexican Bingo) at The Warehouse Event Center in Prescott Valley on Friday\, March 21st\, from 6:00 PM - 8:00 PM!\n\n	Pre-Registration: $20 per person   includes a reserved seat\, 3 Loter a cards for 8 games\, and 1 blackout round.\n	At-the-Door Pricing: $25 per person.\n\nEnjoy a cash bar\, Barra de Pago\, and delicious Elotes Gonzalez for purchase!\n\n\n\nSeats are limited\, so register today to lock in your spot for a night of fun\, prizes\, and great company!\n\n\n\nNote: Only paying guests will have a seat at a table. Don't miss out grab yours now!
X-ALT-DESC;FMTTYPE=text/html:<span style="font-size:14px\;"><span style="font-family:verdana\;"><span style="color:#0000FF\;"><u><strong>&iexcl\;Noche de loter&iacute\;a con la Asociaci&oacute\;n de Empresarios Hispanos!</strong></u></span><br />\n<br />\n&iexcl\;Acomp&aacute\;&ntilde\;enos para una noche emocionante de loter&iacute\;a en el Warehouse Event Center en Prescott Valley el viernes 21 de marzo de 6:00 p. m. a 8:00 p. m.!<br />\n<br />\nReserva anticipada: $20 por persona\, incluye un asiento reservado\, 3 tarjetas de loter&iacute\;a para 8 juegos y 1 ronda de tarjeta completa.&nbsp\;<br />\nPrecio en la entrada: $25 por persona.<br />\n<br />\n&iexcl\;Disfruta de una barra de pago y deliciosos elotes de Elotes Gonz&aacute\;lez a la venta!<br />\n<br />\nLas plazas son limitadas\, as&iacute\; que reg&iacute\;strate hoy para reservar tu lugar en una noche de diversi&oacute\;n\, premios y buena compa&ntilde\;&iacute\;a.<br />\n<br />\n<span style="font-size:12px\;"><span style="color:#FF0000\;">Nota: Solo los invitados de pago tendr&aacute\;n asiento en una mesa. No te lo pierdas\, &iexcl\;reserva el tuyo ahora!</span></span></span></span><br />\n<br />\n******************************************************************<br />\n<span style="font-size:14px\;"><span style="font-family:verdana\;"><u><span style="color:#0000FF\;"><strong>&iexcl\;Loter&iacute\;a Night with the Hispanic Business Association!&nbsp\;</strong></span></u><br />\n<br />\nJoin us for an exciting evening of Loter&iacute\;a (Mexican Bingo) at The Warehouse Event Center in Prescott Valley on Friday\, March 21st\, from 6:00 PM - 8:00 PM!</span></span>\n<ul>\n	<li><span style="font-size:14px\;"><span style="font-family:verdana\;">Pre-Registration: $20 per person &ndash\; includes a reserved seat\, 3 Loter&iacute\;a cards for 8 games\, and 1 blackout round.</span></span></li>\n	<li><span style="font-size:14px\;"><span style="font-family:verdana\;">At-the-Door Pricing: $25 per person.</span></span></li>\n</ul>\n<span style="font-size:14px\;"><span style="font-family:verdana\;">Enjoy a cash bar\, Barra de Pago\, and delicious Elotes Gonzalez for purchase!<br />\n<br />\nSeats are limited\, so register today to lock in your spot for a night of fun\, prizes\, and great company!<br />\n<br />\n<span style="color:#FF0000\;"><span style="font-size:12px\;">Note: Only paying guests will have a seat at a table. Don&rsquo\;t miss out&mdash\;grab yours now!</span></span></span></span>
LOCATION:The Warehouse Event Center 5880 N Prairie Lane Prescott Valley\, AZ 86314
UID:e.2712.13351
SEQUENCE:3
DTSTAMP:20260426T012445Z
URL:http://www.pvchamber.org/events/details/hba-loteria-event-2025-13351
END:VEVENT

END:VCALENDAR
