BEGIN:VCALENDAR
VERSION:2.0
PRODID:-//ChamberMaster//Event Calendar 2.0//EN
METHOD:PUBLISH
X-PUBLISHED-TTL:P3D
REFRESH-INTERVAL:P3D
CALSCALE:GREGORIAN
BEGIN:VEVENT
DTSTART:20260422T010000Z
DTEND:20260423T020000Z
X-MICROSOFT-CDO-ALLDAYEVENT:FALSE
SUMMARY:Maximizing your Social Security benefits and Minimizing your Taxes
DESCRIPTION:Most retirees could miss out on up to $110\,000 in benefits and may pay avoidable Medicare surcharges. In just 60 fast-paced minutes\, we'll show you how to protect your income\, reduce taxes\, and retire with confidence. The next decision could significantly impact your retirement income! You've worked hard\, let's keep more of it. In Just One Hour\, You'll Learn Strategies That May Help You: Maximize your Social Security benefits with two powerful filing options potentially increasing your lifetime income by tens of thousands of dollars How the 2025 tax law changes could cost you thousands in higher taxes Strategies to help reduce exposure to IRMAA surcharges When and how Roth conversions could potentially save six figures How to build a written\, tax-efficient income plan for retirement
X-ALT-DESC;FMTTYPE=text/html:Most retirees could miss out on up to $110\,000 in benefits and may pay avoidable Medicare surcharges. In just 60 fast-paced minutes\, we&rsquo\;ll show you how to protect your income\, reduce taxes\, and retire with confidence. The next decision could significantly impact your retirement income! You&rsquo\;ve worked hard\, let&rsquo\;s keep more of it. In Just One Hour\, You&rsquo\;ll Learn Strategies That May Help You: Maximize your Social Security benefits with two powerful filing options&mdash\;potentially increasing your lifetime income by tens of thousands of dollars How the 2025 tax law changes could cost you thousands in higher taxes Strategies to help reduce exposure to IRMAA surcharges When and how Roth conversions could potentially save six figures How to build a written\, tax-efficient income plan for retirement
LOCATION:Augie's 3460 Gateway Blvd Prescott\, AZ 86303
UID:e.2712.14297
SEQUENCE:3
DTSTAMP:20260421T092338Z
URL:http://www.pvchamber.org/events/details/maximizing-your-social-security-benefits-and-minimizing-your-taxes-04-21-2026-14297
END:VEVENT

END:VCALENDAR
