BEGIN:VCALENDAR
VERSION:2.0
PRODID:-//ChamberMaster//Event Calendar 2.0//EN
METHOD:PUBLISH
X-PUBLISHED-TTL:P3D
REFRESH-INTERVAL:P3D
CALSCALE:GREGORIAN
BEGIN:VEVENT
DTSTART:20250221T170000Z
DTEND:20250221T190000Z
X-MICROSOFT-CDO-ALLDAYEVENT:FALSE
SUMMARY:Prescott Valley Public Library – New Event –– Prescott Valley Public Library Adult Services Department\, Coffee with a Veteran\, February 21st\, 2025.
DESCRIPTION:Prescott Valley Public Library will be hosting Coffee with a Veteran on Friday\, February 21st\, 2025\, from 10:00 am-12:00 pm. Coffee for Vets is an opportunity for Veterans to socialize\, connect with the community\, and learn about community resources. This is a monthly event held on the third Friday of the month and is a time for veterans\, service-members\, and any member of the public to sit down and have a conversation while enjoying a cup of coffee and doughnuts. Friday\, February 21st\, 2025 Time: 10:00 AM-12:00 PM Crystal Room More Information? 928.759.3040 This program is free. No registration required.
X-ALT-DESC;FMTTYPE=text/html:Prescott Valley Public Library will be hosting Coffee with a Veteran on Friday\, February 21st\, 2025\, from 10:00 am-12:00 pm. Coffee for Vets is an opportunity for Veterans to socialize\, connect with the community\, and learn about community resources. This is a monthly event held on the third Friday of the month and is a time for veterans\, service-members\, and any member of the public to sit down and have a conversation while enjoying a cup of coffee and doughnuts. Friday\, February 21st\, 2025 Time: 10:00 AM-12:00 PM Crystal Room More Information? 928.759.3040 This program is free. No registration required.
LOCATION:
UID:e.2712.12486
SEQUENCE:3
DTSTAMP:20260426T032012Z
URL:http://www.pvchamber.org/events/details/prescott-valley-public-library-new-event-prescott-valley-public-library-adult-services-department-coffee-with-a-veteran-february-21st-2025-12486
END:VEVENT

END:VCALENDAR
