BEGIN:VCALENDAR
VERSION:2.0
PRODID:-//ChamberMaster//Event Calendar 2.0//EN
METHOD:PUBLISH
X-PUBLISHED-TTL:P3D
REFRESH-INTERVAL:P3D
CALSCALE:GREGORIAN
BEGIN:VEVENT
DTSTART:20250330T210000Z
DTEND:20250330T230000Z
X-MICROSOFT-CDO-ALLDAYEVENT:FALSE
SUMMARY:Shakespeare's King Lear | Presented by Basin Lake Theatre Project
DESCRIPTION:Basin Lake Theatre Project\, under the visionary direction of Julie Chavez Harrington\, proudly presents Shakespeare's monumental tragedy: King Lear. Experience this timeless story in the intimate setting of the new Cosmos Theatre\, the black box theater on Marina (formerly the Studio Theatre at PCA). As King Lear's grip on power crumbles\, you'll be drawn into a whirlwind of treachery\, cruelty\, and madness. Shakespeare's masterful storytelling\, brought to life by some of Prescott's finest actors\, guarantees a performance that will linger in your memory long after the final bow. Don't miss this extraordinary production. Secure your tickets now and immerse yourself in a tale of intrigue\, betrayal\, and redemption.
X-ALT-DESC;FMTTYPE=text/html:Basin Lake Theatre Project\, under the visionary direction of Julie Chavez Harrington\, proudly presents Shakespeare&rsquo\;s monumental tragedy: King Lear. Experience this timeless story in the intimate setting of the new Cosmos Theatre\, the black box theater on Marina (formerly the Studio Theatre at PCA). As King Lear&rsquo\;s grip on power crumbles\, you&rsquo\;ll be drawn into a whirlwind of treachery\, cruelty\, and madness. Shakespeare&rsquo\;s masterful storytelling\, brought to life by some of Prescott&rsquo\;s finest actors\, guarantees a performance that will linger in your memory long after the final bow. Don&rsquo\;t miss this extraordinary production. Secure your tickets now and immerse yourself in a tale of intrigue\, betrayal\, and redemption.
LOCATION:Cosmos Theatre (Former Studio Theatre at Prescott Center for the Arts) 222 N Marina St. Prescott\, AZ 86301
UID:e.2712.13303
SEQUENCE:3
DTSTAMP:20260426T012310Z
URL:http://www.pvchamber.org/events/details/shakespeare-s-king-lear-presented-by-basin-lake-theatre-project-13303
END:VEVENT

END:VCALENDAR
