BEGIN:VCALENDAR
VERSION:2.0
PRODID:-//ChamberMaster//Event Calendar 2.0//EN
METHOD:PUBLISH
X-PUBLISHED-TTL:P3D
REFRESH-INTERVAL:P3D
CALSCALE:GREGORIAN
BEGIN:VEVENT
DTSTART:20250203T213000Z
DTEND:20250203T223000Z
X-MICROSOFT-CDO-ALLDAYEVENT:FALSE
SUMMARY:SilverKite Community Art Classes: Unique Perspectives in Personal Essay\, February 3rd\, 2025– Pre-registration required – Virtual Live Online Class
DESCRIPTION:Prescott Valley Public Library in partnership with Silverkite Community Art Classes presents Unique Perspectives in Personal Essay\, from 2:30- 3:30 p.m. on Monday\, February 3rd\, 2025. This is a virtual\, live online art class for adults. Everyone has a story to tell what's yours? Join our class to learn how to share your unique life experiences and perspectives through powerful storytelling. Like a meaningful conversation\, a personal essay connects us with others and reveals what shapes us. Together\, we'll explore techniques to uncover your ideas and bring them to life on the page. Don't miss this opportunity to find your voice and tell your story!   Paper   Writing utensil Facilitated by Pearl Klein Join us from your home for these virtual ZOOM live online classes. Pre-registration is required. Sign up at pvlib.net/register More info? 928.759.3040
X-ALT-DESC;FMTTYPE=text/html:Prescott Valley Public Library in partnership with Silverkite Community Art Classes presents Unique Perspectives in Personal Essay\, from 2:30- 3:30 p.m. on Monday\, February 3rd\, 2025. This is a virtual\, live online art class for adults. Everyone has a story to tell&mdash\;what&rsquo\;s yours? Join our class to learn how to share your unique life experiences and perspectives through powerful storytelling. Like a meaningful conversation\, a personal essay connects us with others and reveals what shapes us. Together\, we&rsquo\;ll explore techniques to uncover your ideas and bring them to life on the page. Don&rsquo\;t miss this opportunity to find your voice and tell your story! &bull\; Paper &bull\; Writing utensil Facilitated by Pearl Klein Join us from your home for these virtual ZOOM live online classes. Pre-registration is required. Sign up at pvlib.net/register More info? 928.759.3040
LOCATION:
UID:e.2712.12462
SEQUENCE:3
DTSTAMP:20260426T030625Z
URL:http://www.pvchamber.org/events/details/silverkite-community-art-classes-unique-perspectives-in-personal-essay-february-3rd-2025-pre-registration-required-virtual-live-online-class-12462
END:VEVENT

END:VCALENDAR
