BEGIN:VCALENDAR
VERSION:2.0
PRODID:-//ChamberMaster//Event Calendar 2.0//EN
METHOD:PUBLISH
X-PUBLISHED-TTL:P3D
REFRESH-INTERVAL:P3D
CALSCALE:GREGORIAN
BEGIN:VEVENT
DTSTART:20260319T000000Z
DTEND:20260319T013000Z
X-MICROSOFT-CDO-ALLDAYEVENT:FALSE
SUMMARY:Alive After 5
DESCRIPTION:Join the Prescott Valley Chamber of Commerce and our monthly hosts at an Alive After 5! This month\, our hosts will be: Crossings at Windsong
X-ALT-DESC;FMTTYPE=text/html:Join the Prescott Valley Chamber of Commerce and our monthly hosts at an Alive After 5! This month\, our hosts will be: Crossings at Windsong
LOCATION:Crossing at Windsong Apartments\, 3830 N Windsong Dr.\, Prescott Valley
UID:e.2712.14022
SEQUENCE:3
DTSTAMP:20260420T104535Z
URL:https://www.pvchamber.org/events/details/alive-after-5-14022
END:VEVENT

END:VCALENDAR
