BEGIN:VCALENDAR
VERSION:2.0
PRODID:-//ChamberMaster//Event Calendar 2.0//EN
METHOD:PUBLISH
X-PUBLISHED-TTL:P3D
REFRESH-INTERVAL:P3D
CALSCALE:GREGORIAN
BEGIN:VEVENT
DTSTART:20260426T210000Z
DTEND:20260426T230000Z
X-MICROSOFT-CDO-ALLDAYEVENT:FALSE
SUMMARY:Prescott Chamber Players Society annual Spring Concert
DESCRIPTION:Prescott Chamber Players Society presents their annual Spring Concert at 2:00pm on Sunday April 26th at the Trinity Presbyterian Church located at 630 Park Avenue in Prescott. The program will include classical composers as well as contemporary selections. Free-will offering is suggested but not required to enjoy an afternoon of great music performed by local talented musicians! For more information\, visit our website at www.prescottchamberplayers.com
X-ALT-DESC;FMTTYPE=text/html:Prescott Chamber Players Society presents their annual Spring Concert at 2:00pm on Sunday April 26th at the Trinity Presbyterian Church located at 630 Park Avenue in Prescott. The program will include classical composers as well as contemporary selections. Free-will offering is suggested but not required to enjoy an afternoon of great music performed by local talented musicians! For more information\, visit our website at www.prescottchamberplayers.com
LOCATION:Trinity Presbyterian Church at 630 Park Avenue in the cool pines of Prescott.
UID:e.2712.14296
SEQUENCE:3
DTSTAMP:20260424T100142Z
URL:https://www.pvchamber.org/events/details/prescott-chamber-players-society-annual-spring-concert-14296
END:VEVENT

END:VCALENDAR
